BEGIN:VCALENDAR
VERSION:2.0
PRODID:-//wp-events-plugin.com//7.2.3.1//EN
BEGIN:VEVENT
UID:1-2179@buddytobuddy.nl
DTSTART;TZID=Europe/Amsterdam:20240402T193000
DTEND;TZID=Europe/Amsterdam:20240402T210000
DTSTAMP:20240328T120303Z
URL:https://buddytobuddy.nl/event/51852/
SUMMARY:Informatie avond voor Nederlandse buddy's in Breda
DESCRIPTION:Kom naar onze informatieavond op dinsdag 2 april 2024 om 19.30 
 in onze huiskamer. Tijdens deze avond hoor je alles over het buddytraject\
 , luister je naar ervaringsverhalen en is er ruimte voor al je vragen. Zo 
 kun je goed voorbereid als buddy starten. Na afloop horen we graag of we o
 p jou kunnen rekenen als buddy! Via deze link kun je je alvast inschrijven
 .\n\ntot snel 💛\n\nBuddy to Buddy Breda
CATEGORIES:Breda
LOCATION:Huiskamer Buddy to Buddy Breda\, Christiaan Huygensstraat 52\, Bre
 da\, 4816 BK\, Nederland
GEO:51.597441;4.787697
X-APPLE-STRUCTURED-LOCATION;VALUE=URI;X-ADDRESS=Christiaan Huygensstraat 52
 \, Breda\, 4816 BK\, Nederland;X-APPLE-RADIUS=100;X-TITLE=Huiskamer Buddy 
 to Buddy Breda:geo:51.597441,4.787697
END:VEVENT
BEGIN:VTIMEZONE
TZID:Europe/Amsterdam
X-LIC-LOCATION:Europe/Amsterdam
BEGIN:DAYLIGHT
DTSTART:20240331T030000
TZOFFSETFROM:+0100
TZOFFSETTO:+0200
TZNAME:CEST
END:DAYLIGHT
END:VTIMEZONE
END:VCALENDAR